BEGIN:VCALENDAR
VERSION:2.0
PRODID:-//RadioSNHU - ECPv6.2.8.2//NONSGML v1.0//EN
CALSCALE:GREGORIAN
METHOD:PUBLISH
X-ORIGINAL-URL:https://radiosnhu.com
X-WR-CALDESC:Events for RadioSNHU
REFRESH-INTERVAL;VALUE=DURATION:PT1H
X-Robots-Tag:noindex
X-PUBLISHED-TTL:PT1H
BEGIN:VTIMEZONE
TZID:UTC
BEGIN:STANDARD
TZOFFSETFROM:+0000
TZOFFSETTO:+0000
TZNAME:UTC
DTSTART:20250101T000000
END:STANDARD
END:VTIMEZONE
BEGIN:VEVENT
DTSTART;TZID=UTC:20250331T190000
DTEND;TZID=UTC:20250331T210000
DTSTAMP:20260420T064531
CREATED:20250219T222838Z
LAST-MODIFIED:20250219T222838Z
UID:260-1743447600-1743454800@radiosnhu.com
SUMMARY:Rock The Night Away
DESCRIPTION:
URL:https://radiosnhu.com/event/rock-the-night-away
LOCATION:Last Chapter Pub
ORGANIZER;CN="RadioSNHU":MAILTO:radiosnhu@snhu.edu
END:VEVENT
END:VCALENDAR