BEGIN:VCALENDAR
VERSION:2.0
PRODID:-//RadioSNHU - ECPv6.2.8.2//NONSGML v1.0//EN
CALSCALE:GREGORIAN
METHOD:PUBLISH
X-WR-CALNAME:RadioSNHU
X-ORIGINAL-URL:https://radiosnhu.com
X-WR-CALDESC:Events for RadioSNHU
REFRESH-INTERVAL;VALUE=DURATION:PT1H
X-Robots-Tag:noindex
X-PUBLISHED-TTL:PT1H
BEGIN:VTIMEZONE
TZID:UTC
BEGIN:STANDARD
TZOFFSETFROM:+0000
TZOFFSETTO:+0000
TZNAME:UTC
DTSTART:20240101T000000
END:STANDARD
END:VTIMEZONE
BEGIN:VEVENT
DTSTART;TZID=UTC:20241217T190000
DTEND;TZID=UTC:20241217T210000
DTSTAMP:20260421T001453
CREATED:20241211T201329Z
LAST-MODIFIED:20241211T201503Z
UID:243-1734462000-1734469200@radiosnhu.com
SUMMARY:Rise Of The Guardians Watch Party
DESCRIPTION:
URL:https://radiosnhu.com/event/rise-of-the-guardians-watch-party
LOCATION:Last Chapter Pub
ORGANIZER;CN="RadioSNHU":MAILTO:radiosnhu@snhu.edu
END:VEVENT
BEGIN:VEVENT
DTSTART;TZID=UTC:20241214T200000
DTEND;TZID=UTC:20241214T223000
DTSTAMP:20260421T001453
CREATED:20241211T201255Z
LAST-MODIFIED:20241211T201255Z
UID:241-1734206400-1734215400@radiosnhu.com
SUMMARY:Holiday Hullabaloo
DESCRIPTION:
URL:https://radiosnhu.com/event/holiday-hullabaloo
LOCATION:Last Chapter Pub
ORGANIZER;CN="RadioSNHU":MAILTO:radiosnhu@snhu.edu
END:VEVENT
BEGIN:VEVENT
DTSTART;TZID=UTC:20241211T173000
DTEND;TZID=UTC:20241211T180000
DTSTAMP:20260421T001453
CREATED:20241211T201449Z
LAST-MODIFIED:20241211T201536Z
UID:245-1733938200-1733940000@radiosnhu.com
SUMMARY:Late Night Write Night
DESCRIPTION:Name That Tune
URL:https://radiosnhu.com/event/late-night-write-night
END:VEVENT
BEGIN:VEVENT
DTSTART;TZID=UTC:20240221T170000
DTEND;TZID=UTC:20240221T190000
DTSTAMP:20260421T001453
CREATED:20240122T215705Z
LAST-MODIFIED:20240122T215705Z
UID:214-1708534800-1708542000@radiosnhu.com
SUMMARY:Study Night
DESCRIPTION:
URL:https://radiosnhu.com/event/study-night
LOCATION:Last Chapter Pub
ORGANIZER;CN="RadioSNHU":MAILTO:radiosnhu@snhu.edu
END:VEVENT
BEGIN:VEVENT
DTSTART;TZID=UTC:20240215T200000
DTEND;TZID=UTC:20240215T220000
DTSTAMP:20260421T001453
CREATED:20240122T220315Z
LAST-MODIFIED:20240122T220315Z
UID:216-1708027200-1708034400@radiosnhu.com
SUMMARY:Karaoke
DESCRIPTION:
URL:https://radiosnhu.com/event/karaoke
LOCATION:Last Chapter Pub
ORGANIZER;CN="RadioSNHU":MAILTO:radiosnhu@snhu.edu
END:VEVENT
BEGIN:VEVENT
DTSTART;TZID=UTC:20240205T183000
DTEND;TZID=UTC:20240205T210000
DTSTAMP:20260421T001453
CREATED:20240122T215425Z
LAST-MODIFIED:20240122T215425Z
UID:212-1707157800-1707166800@radiosnhu.com
SUMMARY:Game Night
DESCRIPTION:
URL:https://radiosnhu.com/event/game-night
LOCATION:Last Chapter Pub
ORGANIZER;CN="RadioSNHU":MAILTO:radiosnhu@snhu.edu
END:VEVENT
END:VCALENDAR