BEGIN:VCALENDAR
VERSION:2.0
PRODID:-//RadioSNHU - ECPv6.2.8.2//NONSGML v1.0//EN
CALSCALE:GREGORIAN
METHOD:PUBLISH
X-ORIGINAL-URL:https://radiosnhu.com
X-WR-CALDESC:Events for RadioSNHU
REFRESH-INTERVAL;VALUE=DURATION:PT1H
X-Robots-Tag:noindex
X-PUBLISHED-TTL:PT1H
BEGIN:VTIMEZONE
TZID:UTC
BEGIN:STANDARD
TZOFFSETFROM:+0000
TZOFFSETTO:+0000
TZNAME:UTC
DTSTART:20250101T000000
END:STANDARD
END:VTIMEZONE
BEGIN:VEVENT
DTSTART;TZID=UTC:20250320T203000
DTEND;TZID=UTC:20250320T223000
DTSTAMP:20260420T064332
CREATED:20250219T222810Z
LAST-MODIFIED:20250220T162445Z
UID:258-1742502600-1742509800@radiosnhu.com
SUMMARY:Silent Disco
DESCRIPTION:Get ready to experience the pub like never before! SNHU’s Silent Disco is taking over\, transforming your favorite hangout into a mesmerizing dance floor of personal soundtracks and shared vibes.
URL:https://radiosnhu.com/event/silent-disco
LOCATION:Last Chapter Pub
ORGANIZER;CN="RadioSNHU":MAILTO:radiosnhu@snhu.edu
END:VEVENT
END:VCALENDAR