BEGIN:VCALENDAR
VERSION:2.0
PRODID:-//RadioSNHU - ECPv6.2.8.2//NONSGML v1.0//EN
CALSCALE:GREGORIAN
METHOD:PUBLISH
X-WR-CALNAME:RadioSNHU
X-ORIGINAL-URL:https://radiosnhu.com
X-WR-CALDESC:Events for RadioSNHU
REFRESH-INTERVAL;VALUE=DURATION:PT1H
X-Robots-Tag:noindex
X-PUBLISHED-TTL:PT1H
BEGIN:VTIMEZONE
TZID:UTC
BEGIN:STANDARD
TZOFFSETFROM:+0000
TZOFFSETTO:+0000
TZNAME:UTC
DTSTART:20250101T000000
END:STANDARD
END:VTIMEZONE
BEGIN:VEVENT
DTSTART;TZID=UTC:20250224T170000
DTEND;TZID=UTC:20250224T190000
DTSTAMP:20260420T063957
CREATED:20250219T222335Z
LAST-MODIFIED:20250219T222925Z
UID:250-1740416400-1740423600@radiosnhu.com
SUMMARY:Record Paint Night
DESCRIPTION:Come to the pub to paint some records\, listen to good music\, and have a souvenir to take home!
URL:https://radiosnhu.com/event/record-paint-night
LOCATION:Last Chapter Pub
ORGANIZER;CN="RadioSNHU":MAILTO:radiosnhu@snhu.edu
END:VEVENT
END:VCALENDAR